BEGIN:VCALENDAR
VERSION:2.0
PRODID:-//Stichting over de Brug - ECPv6.15.18//NONSGML v1.0//EN
CALSCALE:GREGORIAN
METHOD:PUBLISH
X-WR-CALNAME:Stichting over de Brug
X-ORIGINAL-URL:https://overdebrug-oostenburg.nl/en/
X-WR-CALDESC:Events for Stichting over de Brug
REFRESH-INTERVAL;VALUE=DURATION:PT1H
X-Robots-Tag:noindex
X-PUBLISHED-TTL:PT1H
BEGIN:VTIMEZONE
TZID:UTC
BEGIN:STANDARD
TZOFFSETFROM:+0000
TZOFFSETTO:+0000
TZNAME:UTC
DTSTART:20230101T000000
END:STANDARD
END:VTIMEZONE
BEGIN:VEVENT
DTSTART;TZID=UTC:20240503T170000
DTEND;TZID=UTC:20240503T190000
DTSTAMP:20260421T062107
CREATED:20240410T202829Z
LAST-MODIFIED:20240516T214930Z
UID:2612-1714755600-1714762800@overdebrug-oostenburg.nl
SUMMARY:OPENING EXPOSITIE DINIE BESEMS: CLOWNESKE TEKENINGEN
DESCRIPTION:We would like to invite you to the festive opening of the new exhibition in the Neighbourhood Room\, with snacks\, drinks and music! Dini Besems herself will be present. \nAll-round designer/artist Dinie Besems is known as aninspirator since 1992. She is an unintentional clown\, cartoonist\, highly skilled artisan\, gardener on her floating garden\, captain of her self-built ship and runs her own magazine OIAAIO. She organises solo exhibitions in very special places in Amsterdam. Her work is nationally and internationally appreciated and has been acquired by several prominent museums. \nYou can see the exhibition from 3 May to 26 July in the Buurtkamer\, Tuesday to Friday between 11:00-13:00.
URL:https://overdebrug-oostenburg.nl/en/agenda/opening-expositie-dinie-besems-clowneske-tekeningen/
LOCATION:Buurtkamer Over de Brug\, Isaac Titsinghkade 123\, Amsterdam\, NY\, 1018 LL
ATTACH;FMTTYPE=image/jpeg:https://overdebrug-oostenburg.nl/wp-content/uploads/2024/04/foto-verslag-talkshow-oostenburg.jpg
ORGANIZER;CN="Stichting Over de Brug":MAILTO:info@overdebrug-oostenburg.nl
END:VEVENT
END:VCALENDAR