BEGIN:VCALENDAR
VERSION:2.0
PRODID:-//Stichting over de Brug - ECPv6.15.18//NONSGML v1.0//EN
CALSCALE:GREGORIAN
METHOD:PUBLISH
X-WR-CALNAME:Stichting over de Brug
X-ORIGINAL-URL:https://overdebrug-oostenburg.nl/en/
X-WR-CALDESC:Events for Stichting over de Brug
REFRESH-INTERVAL;VALUE=DURATION:PT1H
X-Robots-Tag:noindex
X-PUBLISHED-TTL:PT1H
BEGIN:VTIMEZONE
TZID:UTC
BEGIN:STANDARD
TZOFFSETFROM:+0000
TZOFFSETTO:+0000
TZNAME:UTC
DTSTART:20240101T000000
END:STANDARD
END:VTIMEZONE
BEGIN:VEVENT
DTSTART;TZID=UTC:20250626T200000
DTEND;TZID=UTC:20250626T213000
DTSTAMP:20260421T075334
CREATED:20250613T162853Z
LAST-MODIFIED:20250613T171438Z
UID:3439-1750968000-1750973400@overdebrug-oostenburg.nl
SUMMARY:INVITATION TALK SHOW OOSTENBURG #8: DE HALLEN 2
DESCRIPTION:INVITATION TALK SHOW OOSTENBURG #8: DE HALLEN 2\nTHE VAN GENDT HALLEN IN OOSTENBURG AND THE WERKSPOORKATHEDRAAL IN UTRECHT\n🗓 Thursday evening\, June 26\, 2025\,\n🕗 20.00-21.30\n📍 Buurtkamer Over de Brug\, Isaac Titsinghkade 123\, 1018 LL Amsterdam\n🎟 Free admission\n \nIn this series of conversations with special guests\, we explore different approaches to reusing monumental factory halls. Now that the Werkspoorhal in Oostenburg is temporarily vacant\, we shift our focus to other successful examples of cultural and social reuse of industrial heritage. \nIn this second episode of the new series\, we speak with representatives of two repurposed industrial sites\, both connected to the history of Werkspoor. Werkspoor was a Dutch machinery manufacturer known for steam engines\, ship engines\, trains\, and bridges. Its factories were located in what is now Oostenburg-Noord and the former district of Zuilen (now part of Utrecht). \n\nPhoto: Van Gendt Hallen – Hal 5 – Zicht van van noord naar zuid na de brand – 1922 \nThis evening\, Eduard Zanen\, owner of the Van Gendt Hallen\, will talk about the renovation and future plans for these monumental halls. Zanen initiated a sustainable renovation project to transform the halls into an energy-neutral national monument. \nWerkspoor also had a second factory complex in Utrecht. That area\, now called the Werkspoorkwartier\, has been transformed from an outdated industrial zone into a vibrant district filled with creativity\, culture\, and entrepreneurship. The Werkspoorkathedraal on the site now serves as a unique venue for events and enterprise. Tonight\, entrepreneurs from the location will share stories about its past\, present\, and future—and how this vast industrial hall is being reused for cultural and social purposes. \nMore info: Eddy Appels programmering@overdebrug-oostenburg.nl\, of tel. 0622075428 \nPhoto header: Van Gendt Hallen – Render Zijaanzicht VOC-Kade – Credits_ Braaksma & Roos 
URL:https://overdebrug-oostenburg.nl/en/agenda/talkshow-oostenburg-8-de-hallen-2/
LOCATION:Buurtkamer Over de Brug\, Isaac Titsinghkade 123\, Amsterdam\, NY\, 1018 LL
CATEGORIES:uitgelicht
ATTACH;FMTTYPE=image/jpeg:https://overdebrug-oostenburg.nl/wp-content/uploads/2025/06/Van-Gendt-Hallen-Render-Zijaanzicht-VOC-Kade-Credits_-Braaksma-Roos.jpg
ORGANIZER;CN="Stichting Over de Brug":MAILTO:info@overdebrug-oostenburg.nl
END:VEVENT
BEGIN:VEVENT
DTSTART;TZID=UTC:20250708T090000
DTEND;TZID=UTC:20250708T113000
DTSTAMP:20260421T075334
CREATED:20250422T104603Z
LAST-MODIFIED:20250422T121449Z
UID:3298-1751965200-1751974200@overdebrug-oostenburg.nl
SUMMARY:Information Sessions for Women from the Oostelijke Eilanden & the Kadijken
DESCRIPTION:Information Sessions for Women from the Oostelijke Eilanden & the Kadijken \nWould you like to learn more about topics that can make your daily life just a little bit easier? Then come join our gatherings\, especially for women from the neighborhood! \nDuring these morning sessions: \n\n\nYou’ll meet other women from the neighborhood \n\n\nYou’ll receive helpful information on important topics \n\n\nYou’ll hear tips from experts or experienced professionals \n\n\nEach session focuses on a different theme. You’ll get practical insights you can really use – for yourself\, your family\, or other women you know. \nTheme on July 8: Information to follow
URL:https://overdebrug-oostenburg.nl/en/agenda/information-sessions-for-women-from-the-oostelijke-eilanden-the-kadijken-2/
LOCATION:Buurtkamer Over de Brug\, Isaac Titsinghkade 123\, Amsterdam\, NY\, 1018 LL
ATTACH;FMTTYPE=image/jpeg:https://overdebrug-oostenburg.nl/wp-content/uploads/2025/04/informatie-bijeenkomst-vrouwen-over-de-brug.jpg
END:VEVENT
BEGIN:VEVENT
DTSTART;TZID=UTC:20250925T200000
DTEND;TZID=UTC:20250925T213000
DTSTAMP:20260421T075334
CREATED:20250722T184713Z
LAST-MODIFIED:20250722T190332Z
UID:3517-1758830400-1758835800@overdebrug-oostenburg.nl
SUMMARY:Talkshow Oostenburg #9 – het Tonia Stieltjesplein
DESCRIPTION:Talkshow Oostenburg #9 – het Tonia Stieltjesplein\n\nOn Thursday evening\, September 25\, you’re warmly invited to a special edition of the Talkshow Oostenburg\, organized by Stichting Over de Brug. \nThis evening focuses entirely on the new name of the neighborhood’s future meeting place: Tonia Stieltjesplein. \nWe’ll explore the life and legacy of this remarkable woman.Mark the date in your calendar! \n📅 Thursday\, September 25\, 2025🕗 20:00 – 21:30📍 Buurtkamer Over de Brug\, Isaac Titsinghkade 123 \nWho was Tonia Stieltjes?\nTonia Stieltjes was born in 1881 on the Czaar Peterstraat\, the first child of a Surinamese brewer and an Amsterdam housemaid. \nShe grew up in Kattenburg\, then a very multicultural neighborhood. \nTonia became known as a model for the painter Jan Sluijters and a close friend of Piet Mondrian. \nBut above all\, she stood out as the first and only female trade union leader of color in Dutch history. \n\nWhat’s on the program?\nThe evening includes several speakers who will share stories and insights about Tonia’s life and importance. \nSpeakers include: \n\n\nEsther Schreuder – Tonia’s biographer\, author of “Tonia Stieltjes. Activist\, Model and Force of Will”\, and guest curator of a Tonia exhibition at the Singer Museum in Laren. \n\n\nAnnemarie de Wildt – former curator at the Amsterdam Museum\, co-author of Slavery History Guide Amsterdam (2014) and Slavery History Guide Curaçao (2025)\, and member of the Public Space Naming Advisory Board (ANOR). \n\n\nThe evening concludes with short remarks from: \n\n\nEgbert Dekker\, Director of Real Estate & Development at Stadgenoot\, and \n\n\nLotte Terwel\, City District Executive for Amsterdam Centrum. \n\n\nThey will share why community participation matters in naming this new public square. \n\nPhoto: (c) Iris Kensmil\, Tonia Stieltjes\, 2023.Photo by Gert Jan van RooijCourtesy: Ferdinand van Dieten Office \n\n  \nFoto: (c) Iris Kensmil\, Tonia Stieltjes\, 2023. (ph) Gert Jan van Rooij    Courtesy: Ferdinand van Dieten Office \nWant more info?\nIf you have questions about the talk show\, contact program curator Eddy Appels at: programmering@overdebrug-oostenburg.nl\nOr 06 – 22 07 54 28.
URL:https://overdebrug-oostenburg.nl/en/agenda/talkshow-oostenburg-9-het-tonia-stieltjesplein-en/
LOCATION:Buurtkamer Over de Brug\, Isaac Titsinghkade 123\, Amsterdam\, NY\, 1018 LL
ATTACH;FMTTYPE=image/jpeg:https://overdebrug-oostenburg.nl/wp-content/uploads/2025/02/programmering-over-de-brug.jpg
END:VEVENT
BEGIN:VEVENT
DTSTART;TZID=UTC:20250930T200000
DTEND;TZID=UTC:20250930T213000
DTSTAMP:20260421T075334
CREATED:20250923T192407Z
LAST-MODIFIED:20250926T142816Z
UID:3544-1759262400-1759267800@overdebrug-oostenburg.nl
SUMMARY:Information Evening: Werkspoorhal with prospective new tenant BigGym
DESCRIPTION:INVITATION INFORMATION EVENING WERKSPOORHAL WITH PROSPECTIVE NEW TENANT BIGGYM\n🗓 Tuesday evening\, September 30\, 2025\n🕗 20:00–21:30\n📍 Buurtkamer Over de Brug\, Isaac Titsinghkade 123\, 1018 LL Amsterdam\n🎟 Free admission\n \nAfter two years of vacancy\, a prospective new tenant has been found for the Werkspoorhal: the fitness chain BigGym. The environmental permit has been approved. \nOn September 30\, the owner of BigGym and the management will present their plans to the neighborhood and answer questions at Buurtkamer Over de Brug. \nTo prepare and structure the evening properly\, please send your questions in advance to Eddy Appels\, programmering@overdebrug-oostenburg.nl.
URL:https://overdebrug-oostenburg.nl/en/agenda/information-evening-werkspoorhal-with-prospective-new-tenant-biggym/
LOCATION:Buurtkamer Over de Brug\, Isaac Titsinghkade 123\, Amsterdam\, NY\, 1018 LL
ATTACH;FMTTYPE=image/jpeg:https://overdebrug-oostenburg.nl/wp-content/uploads/2025/09/werkspoorhal-biggym.jpg
END:VEVENT
BEGIN:VEVENT
DTSTART;TZID=UTC:20251024T170000
DTEND;TZID=UTC:20251024T190000
DTSTAMP:20260421T075334
CREATED:20250923T202752Z
LAST-MODIFIED:20251015T192147Z
UID:3602-1761325200-1761332400@overdebrug-oostenburg.nl
SUMMARY:Opening – Adrienne Norman: Life\, Photography\, and the Eastern Docklands
DESCRIPTION:On the Waterfront\nPhotography of the Eastern Docklands by Adrienne Norman \nPhotographer Adrienne Norman spent her childhood living abroad with her family in various nations. The experience of growing up in different cultures taught her to adapt to new situations with relative ease. It is also what she enjoys about photography: observing\, meeting\, and working with people from different backgrounds\, all of whom have a story to tell. \nShortly after completing her photographic studies in the United States\, she travelled to Amsterdam in the mid-1980s. The Eastern Docklands fascinated her\, and she decided to stay longer\, residing in a squatted warehouse on the Borneokade. During this period\, she documented the surroundings and its residents. \nStill living in Amsterdam Oost\, Adrienne has worked on numerous independent and group photography projects in the Netherlands. \nThe opening takes place on October 24\, from 5:00 to 7:00 PM. \nThe exhibition runs from October 27 to January 30.\nOpen Tuesday to Friday\, from 10:00 AM to 1:00 PM.
URL:https://overdebrug-oostenburg.nl/en/agenda/opening-adrienne-norman/
LOCATION:Buurtkamer Over de Brug\, Isaac Titsinghkade 123\, Amsterdam\, NY\, 1018 LL
ATTACH;FMTTYPE=image/jpeg:https://overdebrug-oostenburg.nl/wp-content/uploads/2025/09/Norman.jpg
END:VEVENT
BEGIN:VEVENT
DTSTART;TZID=UTC:20251210T100000
DTEND;TZID=UTC:20260130T130000
DTSTAMP:20260421T075334
CREATED:20251210T212508Z
LAST-MODIFIED:20251220T165510Z
UID:3666-1765360800-1769778000@overdebrug-oostenburg.nl
SUMMARY:Adrienne Norman Exhibition
DESCRIPTION:On the Waterfront\n\n\n\n\n\n\nPhotography of the Eastern Docklands by Adrienne Norman\nPhotographer Adrienne Norman spent her childhood abroad with her family\, living in several countries.Growing up across different cultures taught her to adapt easily to new situations. \nThis is also what she enjoys about photography: observing\, meeting\, and working with people from diverse backgrounds\, all with stories to tell. \nShortly after completing her photography studies in the United States\, she travelled to Amsterdam in the mid-1980s.The Eastern Docklands fascinated her\, and she decided to stay longer\, living in a squatted warehouse on Borneokade.During this period\, she documented the area and its residents. \nAdrienne still lives in Amsterdam East and has worked on numerous independent and group photography projects in the Netherlands. \nThe exhibition runs until 30 January.Open Tuesday to Friday\, 10:00–13:00.
URL:https://overdebrug-oostenburg.nl/en/agenda/adrienne-norman-exhibition/
LOCATION:Buurtkamer Over de Brug\, Isaac Titsinghkade 123\, Amsterdam\, NY\, 1018 LL
ATTACH;FMTTYPE=image/jpeg:https://overdebrug-oostenburg.nl/wp-content/uploads/2025/09/Norman.jpg
ORGANIZER;CN="Stichting Over de Brug":MAILTO:info@overdebrug-oostenburg.nl
END:VEVENT
BEGIN:VEVENT
DTSTART;TZID=UTC:20260113T170000
DTEND;TZID=UTC:20260113T190000
DTSTAMP:20260421T075334
CREATED:20251206T122629Z
LAST-MODIFIED:20251206T124545Z
UID:3629-1768323600-1768330800@overdebrug-oostenburg.nl
SUMMARY:New Year’s Reception 2026 - Oostelijke eilanden
DESCRIPTION:Neighborhood Organization 1018\, DOCK\, Buurtteam\, the East Islands Neighborhood Committee\, Heart for the Neighborhood\, Curinesa\, Over de Brug\, and Stadsherstel invite you to the 2026 New Year’s reception.\nThe gathering will take place on Tuesday\, January 13\, from 5:00 PM to 7:00 PM\, at the Oosterkerk\, Kleine Wittenburgerstraat 1.All residents and collaboration partners of 1018 are welcome.
URL:https://overdebrug-oostenburg.nl/en/agenda/new-years-reception-2026-oostelijke-eilanden/
LOCATION:Oosterkerk\, Kleine Wittenburgerstraat 1\, Amsterdam\, Netherlands
ATTACH;FMTTYPE=image/jpeg:https://overdebrug-oostenburg.nl/wp-content/uploads/2025/12/nieuwsjaarsreceptie-2026-Over-de-brug.jpg
END:VEVENT
BEGIN:VEVENT
DTSTART;TZID=UTC:20260226T200000
DTEND;TZID=UTC:20260226T213000
DTSTAMP:20260421T075334
CREATED:20260221T215323Z
LAST-MODIFIED:20260222T112800Z
UID:3764-1772136000-1772141400@overdebrug-oostenburg.nl
SUMMARY:Oostenburg Talk Show #10 – What do you think of Oostenburg North?
DESCRIPTION:Results of the 2026 resident survey\n26 februari 2026 – 8:00 p.m. – 9:30 p.m. | Free admission\nOn Thursday evening\, February 26\, from 8:00 p.m. to 9:30 p.m.\, you are welcome to attend a new edition of the Oostenburg Talk Show\, organized by Stichting Over de Brug. This evening will be entirely devoted to the results of the second major resident survey on Oostenburg Noord. \n📅 Thursday\, February 26\, 2026\n🕗 8:00 p.m. – 9:30 p.m.\n📍 Buurtkamer Over de Brug\, Isaac Titsinghkade 123\n🎟️ Free admission \n268 residents completed the survey and expressed their views on green spaces\, public spaces\, safety\, social cohesion\, and the use of the plinths. The results are clear: the neighborhood has potential\, but there is work to be done. During this evening\, we will explain the figures\, discuss what has changed since last year\, and\, more importantly\, what the next steps are. \nContent of the evening \nWe will discuss the most important findings from the survey and how residents\, the municipality\, and project developers can work together to achieve concrete improvements. Topics will include: \nThe scores for greenery\, public space\, safety\, and plinths\, and what they mean for the livability of the neighborhood.\nA look back: what has changed in the past year as a result of the first survey?\nThe next steps: which action points will we tackle together? \nThere will be plenty of opportunity for questions\, comments\, and ideas from the audience. After all\, 61% of residents indicated that they are willing to help\, and we want to harness that energy. \nDue to limited space\, please register at: info@overdebrug-oostenburg.nl
URL:https://overdebrug-oostenburg.nl/en/agenda/talkshow-oostenburg-10-what-do-you-think-of-oostenburg-north/
LOCATION:Buurtkamer Over de Brug\, Isaac Titsinghkade 123\, Amsterdam\, NY\, 1018 LL
ATTACH;FMTTYPE=image/jpeg:https://overdebrug-oostenburg.nl/wp-content/uploads/2026/02/oostenburg-noord-over-de-brug.jpg
ORGANIZER;CN="Stichting Over de Brug":MAILTO:info@overdebrug-oostenburg.nl
END:VEVENT
BEGIN:VEVENT
DTSTART;TZID=UTC:20260318T193000
DTEND;TZID=UTC:20260318T220000
DTSTAMP:20260421T075334
CREATED:20260307T103633Z
LAST-MODIFIED:20260307T112259Z
UID:3800-1773862200-1773871200@overdebrug-oostenburg.nl
SUMMARY:Oostenburg Board Game Club
DESCRIPTION:Oostenburg Board Game Club\nDo you enjoy board games\, or would you like to try them for the first time?Join the Oostenburg Board Game Club in Amsterdam. \nWe play modern board games in a relaxed and welcoming setting.Everyone is welcome\, including complete beginners. You can just join and start playing. \nGames may include Catan\, Pandemic\, Ticket to Ride\, Azul\, Dominion\, Carcassonne\, Codenames\, Dixit\, and Star Realms.You are also welcome to bring your own favorite game. \nPractical information\nWhenEvery month on the 1st and 3rd WednesdayTime: 19:30 – 22:00 \nLocationOver de Brug\, BuurtkamerIsaac Titsinghkade 123\, Amsterdam \nCostFree \nWho can join\n\n\nBeginners are welcome \n\n\nExperienced players are welcome \n\n\nCome on your own or bring a friend \n\n\nFollow us on Instagram: @oostenburgboardgameclub
URL:https://overdebrug-oostenburg.nl/en/agenda/oostenburg-board-game-club/
LOCATION:Buurtkamer Over de Brug\, Isaac Titsinghkade 123\, Amsterdam\, NY\, 1018 LL
ATTACH;FMTTYPE=image/jpeg:https://overdebrug-oostenburg.nl/wp-content/uploads/2025/04/spelletjes-avond.jpg
ORGANIZER;CN="Stichting Over de Brug":MAILTO:info@overdebrug-oostenburg.nl
END:VEVENT
BEGIN:VEVENT
DTSTART;TZID=UTC:20260401T193000
DTEND;TZID=UTC:20260401T220000
DTSTAMP:20260421T075334
CREATED:20260307T110241Z
LAST-MODIFIED:20260307T111450Z
UID:3796-1775071800-1775080800@overdebrug-oostenburg.nl
SUMMARY:Oostenburg Board Game Club
DESCRIPTION:Oostenburg Board Game Club\nDo you enjoy board games\, or would you like to try them for the first time?Join the Oostenburg Board Game Club in Amsterdam. \nWe play modern board games in a relaxed and welcoming setting.Everyone is welcome\, including complete beginners. You can just join and start playing. \nGames may include Catan\, Pandemic\, Ticket to Ride\, Azul\, Dominion\, Carcassonne\, Codenames\, Dixit\, and Star Realms.You are also welcome to bring your own favorite game. \nPractical information\nWhenEvery month on the 1st and 3rd WednesdayTime: 19:30 – 22:00 \nLocationOver de Brug\, BuurtkamerIsaac Titsinghkade 123\, Amsterdam \nCostFree \nWho can join\n\n\nBeginners are welcome \n\n\nExperienced players are welcome \n\n\nCome on your own or bring a friend \n\n\nFollow us on Instagram: @oostenburgboardgameclub
URL:https://overdebrug-oostenburg.nl/en/agenda/oostenburg-board-club/
LOCATION:Buurtkamer Over de Brug\, Isaac Titsinghkade 123\, Amsterdam\, NY\, 1018 LL
ATTACH;FMTTYPE=image/jpeg:https://overdebrug-oostenburg.nl/wp-content/uploads/2025/04/Catan-spelletjes-avond.jpg
ORGANIZER;CN="Stichting Over de Brug":MAILTO:info@overdebrug-oostenburg.nl
END:VEVENT
BEGIN:VEVENT
DTSTART;TZID=UTC:20260422T193000
DTEND;TZID=UTC:20260422T210000
DTSTAMP:20260421T075334
CREATED:20260328T123905Z
LAST-MODIFIED:20260328T125801Z
UID:3839-1776886200-1776891600@overdebrug-oostenburg.nl
SUMMARY:Neighbourhood Walks Eastern Islands  -  April 22\, 7:30 PM - 9:00 PM
DESCRIPTION:Starting point: De Buurtkamer of Over de Brug\, Isaac Titsinghkade 123\nNeighbourhood group walks for neighbours\nDuration: approx. 90 minutes\nEnding at: De Buurtkamer\, or nearby\nGroup size: max. 30 people\nLanguage: NL (EN optional)\nFree of charge \nWijkwandelingen Oostelijke Eilanden – Neighbourhood Walks Eastern Islands \nSince 2025\, wijkwandelingen.nl has regularly organized walks through our neighbourhood\, with various themes. We explore the neighbourhood together with people who live or work in the area. \nThemes include architecture\, history\, art\, social and community development\, culture\, and exploring green spaces\, sports venues\, and meeting places. We also try\, where possible\, to visit cultural and community organizations. \nComments from last season: \n“It’s really fun to discover things in my own neighbourhood that I didn’t know existed.”\n“With the Wijkwandelingen – Neighbourhood Walks\, you walk around the neighbourhood and discover what else there is.”\n“Surprises guaranteed for everyone.” \nStarting April 22\, 2026\, we’ll once again be taking monthly walks led by a neighbourhood guide to various locations in the neighbourhood. \nWe expect to: \n– see new things\n– learn more about the neighbourhood and its history\n– hear all about art in the neighbourhood and the stories behind it\n– meet neighbours \nAgenda: \nApril 22\, 7:30 PM – 9:00 PM\nMay 20\, 7:30 PM – 9:00 PM\nJune 24\, 7:30 PM – 9:00 PM \nCheck also the neighbourhood website www.overdebrug-oostenburg.nl/agenda for the themes and the most recent information. \nRegister on time on the website! \nCONTACT: info@wijkwandelingen.nl\, www.wijkwandelingen.nl
URL:https://overdebrug-oostenburg.nl/en/agenda/neighbourhood-walks-eastern-islands-april-22-730-pm-900-pm/
LOCATION:Buurtkamer Over de Brug\, Isaac Titsinghkade 123\, Amsterdam\, NY\, 1018 LL
ATTACH;FMTTYPE=image/jpeg:https://overdebrug-oostenburg.nl/wp-content/uploads/2025/09/Wijkwandeling-groen-over-de-brug.jpg
END:VEVENT
BEGIN:VEVENT
DTSTART;TZID=UTC:20260505T180000
DTEND;TZID=UTC:20260505T203000
DTSTAMP:20260421T075334
CREATED:20260416T212505Z
LAST-MODIFIED:20260416T212859Z
UID:3883-1778004000-1778013000@overdebrug-oostenburg.nl
SUMMARY:Celebrate Freedom: Meet Your Neighbors at Oostenburg
DESCRIPTION:Hi everyone 😊 \nOn May 5th we’re organizing a small community gathering to celebrate Liberation Day and bring neighbors together. \n“Feel Free to Meet Your Neighbours” is an informal moment to connect\, share stories and enjoy a relaxed evening with people from different backgrounds here in Oostenburg. \n📍 Location: Inntel Hotel \n🕕 Time: 18:00 – 20:30 \n🍲 Free soup and cookies \n🥂 One welcome drink per person \nThe event will be in English to keep it open and accessible to everyone.
URL:https://overdebrug-oostenburg.nl/en/agenda/celebrate-freedom/
ATTACH;FMTTYPE=image/jpeg:https://overdebrug-oostenburg.nl/wp-content/uploads/2026/04/Libaration_day_oostenburg_nieuwsbrief_template.jpg
END:VEVENT
BEGIN:VEVENT
DTSTART;TZID=UTC:20260520T193000
DTEND;TZID=UTC:20260520T210000
DTSTAMP:20260421T075334
CREATED:20260328T124329Z
LAST-MODIFIED:20260328T142319Z
UID:3840-1779305400-1779310800@overdebrug-oostenburg.nl
SUMMARY:Neighbourhood Walks Eastern Islands  -  May 20\, 7:30 PM - 9:00 PM
DESCRIPTION:Starting point: De Buurtkamer of Over de Brug\, Isaac Titsinghkade 123\nNeighbourhood group walks for neighbours\nDuration: approx. 90 minutes\nEnding at: De Buurtkamer\, or nearby\nGroup size: max. 30 people\nLanguage: NL (EN optional)\nFree of charge \nWijkwandelingen Oostelijke Eilanden – Neighbourhood Walks Eastern Islands \nSince 2025\, wijkwandelingen.nl has regularly organized walks through our neighbourhood\, with various themes. We explore the neighbourhood together with people who live or work in the area. \nThemes include architecture\, history\, art\, social and community development\, culture\, and exploring green spaces\, sports venues\, and meeting places. We also try\, where possible\, to visit cultural and community organizations. \nComments from last season: \n“It’s really fun to discover things in my own neighbourhood that I didn’t know existed.”\n“With the Wijkwandelingen – Neighbourhood Walks\, you walk around the neighbourhood and discover what else there is.”\n“Surprises guaranteed for everyone.” \nStarting April 22\, 2026\, we’ll once again be taking monthly walks led by a neighbourhood guide to various locations in the neighbourhood. \nWe expect to: \n– see new things\n– learn more about the neighbourhood and its history\n– hear all about art in the neighbourhood and the stories behind it\n– meet neighbours \nAgenda: \nApril 22\, 7:30 PM – 9:00 PM\nMay 20\, 7:30 PM – 9:00 PM\nJune 24\, 7:30 PM – 9:00 PM \nCheck also the neighbourhood website www.overdebrug-oostenburg.nl/agenda for the themes and the most recent information. \nRegister on time on the website! \nCONTACT: info@wijkwandelingen.nl\, www.wijkwandelingen.nl
URL:https://overdebrug-oostenburg.nl/en/agenda/neighbourhood-walks-eastern-islands-may-20-730-pm-900-pm/
LOCATION:Buurtkamer Over de Brug\, Isaac Titsinghkade 123\, Amsterdam\, NY\, 1018 LL
ATTACH;FMTTYPE=image/jpeg:https://overdebrug-oostenburg.nl/wp-content/uploads/2025/04/Wijkwandeling-koffie-Oostenburg-over-de-brug.jpg
END:VEVENT
BEGIN:VEVENT
DTSTART;TZID=UTC:20260624T193000
DTEND;TZID=UTC:20260624T210000
DTSTAMP:20260421T075334
CREATED:20260328T124610Z
LAST-MODIFIED:20260328T142355Z
UID:3841-1782329400-1782334800@overdebrug-oostenburg.nl
SUMMARY:Neighbourhood Walks Eastern Islands -  June 24\, 7:30 PM - 9:00 PM
DESCRIPTION:Starting point: De Buurtkamer of Over de Brug\, Isaac Titsinghkade 123\nNeighbourhood group walks for neighbours\nDuration: approx. 90 minutes\nEnding at: De Buurtkamer\, or nearby\nGroup size: max. 30 people\nLanguage: NL (EN optional)\nFree of charge \nWijkwandelingen Oostelijke Eilanden – Neighbourhood Walks Eastern Islands \nSince 2025\, wijkwandelingen.nl has regularly organized walks through our neighbourhood\, with various themes. We explore the neighbourhood together with people who live or work in the area. \nThemes include architecture\, history\, art\, social and community development\, culture\, and exploring green spaces\, sports venues\, and meeting places. We also try\, where possible\, to visit cultural and community organizations. \nComments from last season: \n“It’s really fun to discover things in my own neighbourhood that I didn’t know existed.”\n“With the Wijkwandelingen – Neighbourhood Walks\, you walk around the neighbourhood and discover what else there is.”\n“Surprises guaranteed for everyone.” \nStarting April 22\, 2026\, we’ll once again be taking monthly walks led by a neighbourhood guide to various locations in the neighbourhood. \nWe expect to: \n– see new things\n– learn more about the neighbourhood and its history\n– hear all about art in the neighbourhood and the stories behind it\n– meet neighbours \nAgenda: \nApril 22\, 7:30 PM – 9:00 PM\nMay 20\, 7:30 PM – 9:00 PM\nJune 24\, 7:30 PM – 9:00 PM \nCheck also the neighbourhood website www.overdebrug-oostenburg.nl/agenda for the themes and the most recent information. \nRegister on time on the website! \nCONTACT: info@wijkwandelingen.nl\, www.wijkwandelingen.nl
URL:https://overdebrug-oostenburg.nl/en/agenda/neighbourhood-walks-eastern-islands-june-24-730-pm-900-pm/
LOCATION:Buurtkamer Over de Brug\, Isaac Titsinghkade 123\, Amsterdam\, NY\, 1018 LL
ATTACH;FMTTYPE=image/jpeg:https://overdebrug-oostenburg.nl/wp-content/uploads/2025/09/Wijkwandeling-groen-over-de-brug.jpg
END:VEVENT
END:VCALENDAR